BEGIN:VCALENDAR
VERSION:2.0
PRODID:Events Booking
BEGIN:VEVENT
UID:69e8a007a0203
SUMMARY:Atem\, Stimme\, Sprache & Vagus Balance - inkl Neurographik
DESCRIPTION:Über Stimme &amp\; Sprache die Aktivierung unseres Selbstheilu
 ngsnervs entdecken  und die eigene Mitte stärken.
 Die Erkenntnisse der
  Polyvagaltheorie geben uns eine Landkarte zur Orientierung\, wie wir uns 
 sicher fühlen in unserer Einzigartigkeit und in unseren Beziehungen. Wir 
 bleiben in Verbindung - lebendig\, kreativ und empathisch.
  
LOCATION:Aichholzgasse\, Wien\, 1120 Wien\, Österreich
DTSTART:20260514T140000Z
DTEND:20260517T140000Z
DTSTAMP:20220513T095735Z
ORGANIZER;CN=Silke S. Jandl:MAILTO:kontakt@silkejandl.at
GEO:48.182385;16.324429
X-APPLE-STRUCTURED-LOCATION;VALUE=URI;X-ADDRESS=Aichholzgasse\, Wien\, 1120
  Wien\, Österreich;X-APPLE-RADIUS=72;X-TITLE=LA'AKEA:48.182385;16.324429
END:VEVENT
BEGIN:VEVENT
UID:69e8a007a085b
SUMMARY:Die Melodie meines Wesens / Südkreta
DESCRIPTION:' Die Stimme ist das Organ der Seele '
 Über Körper\, Atem\,
  Stimme erlebst du dich in deiner Schwingung\,Ausdrucksvielfalt\, Präsenz
  und Vitalität.
 Dieses Seminar\, an diesem besonderen Platz direkt am M
 eer\, bietet dir die Möglichkeit\, aus den alltäglichen Herausforderunge
 n auszusteigen\, dein Wesen-tliches zu spüren und wieder ganz bei dir anz
 ukommen.
LOCATION:Δημοτική Ενότητα Γόρτυνας\, Region Kreta\, 
 Griechenland
DTSTART:20260829T180000Z
DTEND:20260905T190000Z
DTSTAMP:20220513T085117Z
ORGANIZER;CN=Silke S. Jandl:MAILTO:kontakt@silkejandl.at
GEO:34.930854;24.924177
X-APPLE-STRUCTURED-LOCATION;VALUE=URI;X-ADDRESS=Δημοτική Ενότη
 τα Γόρτυνας\, Region Kreta\, Griechenland;X-APPLE-RADIUS=72;X-TI
 TLE=Lentas:34.930854;24.924177
END:VEVENT
END:VCALENDAR